BEGIN:VCALENDAR
VERSION:2.0
PRODID:-//Marktmusik Gleinstätten - ECPv5.1.0//NONSGML v1.0//EN
CALSCALE:GREGORIAN
METHOD:PUBLISH
X-WR-CALNAME:Marktmusik Gleinstätten
X-ORIGINAL-URL:https://www.mm-gleinstaetten.at
X-WR-CALDESC:Events for Marktmusik Gleinstätten
BEGIN:VTIMEZONE
TZID:Europe/Vienna
BEGIN:DAYLIGHT
TZOFFSETFROM:+0100
TZOFFSETTO:+0200
TZNAME:CEST
DTSTART:20250330T010000
END:DAYLIGHT
BEGIN:STANDARD
TZOFFSETFROM:+0200
TZOFFSETTO:+0100
TZNAME:CET
DTSTART:20251026T010000
END:STANDARD
END:VTIMEZONE
BEGIN:VEVENT
DTSTART;TZID=Europe/Vienna:20250830T170000
DTEND;TZID=Europe/Vienna:20250831T200000
DTSTAMP:20260422T144555
CREATED:20250728T180547Z
LAST-MODIFIED:20250728T180616Z
UID:3759-1756573200-1756670400@www.mm-gleinstaetten.at
SUMMARY:Zeggern
DESCRIPTION:Die Sulm und die Weinberg \n
URL:https://www.mm-gleinstaetten.at/event/zeggern-2/
LOCATION:Schlosspark Gleinstätten
END:VEVENT
END:VCALENDAR