BEGIN:VCALENDAR
VERSION:2.0
PRODID:-//Marktmusik Gleinstätten - ECPv5.1.0//NONSGML v1.0//EN
CALSCALE:GREGORIAN
METHOD:PUBLISH
X-WR-CALNAME:Marktmusik Gleinstätten
X-ORIGINAL-URL:https://www.mm-gleinstaetten.at
X-WR-CALDESC:Events for Marktmusik Gleinstätten
BEGIN:VTIMEZONE
TZID:Europe/Vienna
BEGIN:DAYLIGHT
TZOFFSETFROM:+0100
TZOFFSETTO:+0200
TZNAME:CEST
DTSTART:20230326T010000
END:DAYLIGHT
BEGIN:STANDARD
TZOFFSETFROM:+0200
TZOFFSETTO:+0100
TZNAME:CET
DTSTART:20231029T010000
END:STANDARD
END:VTIMEZONE
BEGIN:VEVENT
DTSTART;VALUE=DATE:20230211
DTEND;VALUE=DATE:20230212
DTSTAMP:20260422T185542
CREATED:20230117T091931Z
LAST-MODIFIED:20230117T091958Z
UID:2912-1676073600-1676159999@www.mm-gleinstaetten.at
SUMMARY:Ski-Ausflug Nassfeld
DESCRIPTION:Am 11. Februar findet wieder unser traditioneller Ski-Ausflug nach Kärnten (Nassfeld) statt. Auch Nicht-MusikerInnen sind herzlich willkommen – bitte um Anmeldung bei Julia unter +43 660 3170452. \n
URL:https://www.mm-gleinstaetten.at/event/ski-ausflug-nassfeld/
ATTACH;FMTTYPE=image/jpeg:https://www.mm-gleinstaetten.at/wp-content/uploads/2020/05/IMG-20200301-WA0001.jpg
END:VEVENT
END:VCALENDAR