BEGIN:VCALENDAR
VERSION:2.0
PRODID:-//Marktmusik Gleinstätten - ECPv5.1.0//NONSGML v1.0//EN
CALSCALE:GREGORIAN
METHOD:PUBLISH
X-WR-CALNAME:Marktmusik Gleinstätten
X-ORIGINAL-URL:https://www.mm-gleinstaetten.at
X-WR-CALDESC:Events for Marktmusik Gleinstätten
BEGIN:VTIMEZONE
TZID:Europe/Vienna
BEGIN:DAYLIGHT
TZOFFSETFROM:+0100
TZOFFSETTO:+0200
TZNAME:CEST
DTSTART:20220327T010000
END:DAYLIGHT
BEGIN:STANDARD
TZOFFSETFROM:+0200
TZOFFSETTO:+0100
TZNAME:CET
DTSTART:20221030T010000
END:STANDARD
END:VTIMEZONE
BEGIN:VEVENT
DTSTART;TZID=Europe/Vienna:20221231T150000
DTEND;TZID=Europe/Vienna:20221231T170000
DTSTAMP:20260422T185029
CREATED:20221209T091514Z
LAST-MODIFIED:20221219T151505Z
UID:2874-1672498800-1672506000@www.mm-gleinstaetten.at
SUMMARY:Silvestermesse in der Pfarrkirche Gleinstätten
DESCRIPTION:Wir freuen uns\, die Silvestermesse in der Pfarrkirche Gleinstätten musikalisch mitgestalten zu dürfen und wünschen Ihnen und Ihren Lieben ein gesundes und glückliches Jahr 2023! \n
URL:https://www.mm-gleinstaetten.at/event/silvestermesse-in-der-pfarrkirche-gleinstatten/
ATTACH;FMTTYPE=image/jpeg:https://www.mm-gleinstaetten.at/wp-content/uploads/2022/04/next-event2.jpg
END:VEVENT
END:VCALENDAR