BEGIN:VCALENDAR
VERSION:2.0
PRODID:-//Marktmusik Gleinstätten - ECPv5.1.0//NONSGML v1.0//EN
CALSCALE:GREGORIAN
METHOD:PUBLISH
X-WR-CALNAME:Marktmusik Gleinstätten
X-ORIGINAL-URL:https://www.mm-gleinstaetten.at
X-WR-CALDESC:Events for Marktmusik Gleinstätten
BEGIN:VTIMEZONE
TZID:Europe/Vienna
BEGIN:DAYLIGHT
TZOFFSETFROM:+0100
TZOFFSETTO:+0200
TZNAME:CEST
DTSTART:20220327T010000
END:DAYLIGHT
BEGIN:STANDARD
TZOFFSETFROM:+0200
TZOFFSETTO:+0100
TZNAME:CET
DTSTART:20221030T010000
END:STANDARD
END:VTIMEZONE
BEGIN:VEVENT
DTSTART;TZID=Europe/Vienna:20221227T080000
DTEND;TZID=Europe/Vienna:20221229T180000
DTSTAMP:20260422T185417
CREATED:20221209T091415Z
LAST-MODIFIED:20221219T151248Z
UID:2872-1672128000-1672336800@www.mm-gleinstaetten.at
SUMMARY:Neujahrsgeigen
DESCRIPTION:Von 27. bis 29. Dezember werden wir wieder musikalische Glückwünsche für das neue Jahr überbringen und freuen uns auf zahlreiche Zuhörer! \n
URL:https://www.mm-gleinstaetten.at/event/neujahrgeigen/
ATTACH;FMTTYPE=image/jpeg:https://www.mm-gleinstaetten.at/wp-content/uploads/2022/04/next-event2.jpg
END:VEVENT
END:VCALENDAR