BEGIN:VCALENDAR
VERSION:2.0
PRODID:-//Marktmusik Gleinstätten - ECPv5.1.0//NONSGML v1.0//EN
CALSCALE:GREGORIAN
METHOD:PUBLISH
X-WR-CALNAME:Marktmusik Gleinstätten
X-ORIGINAL-URL:https://www.mm-gleinstaetten.at
X-WR-CALDESC:Events for Marktmusik Gleinstätten
BEGIN:VTIMEZONE
TZID:Europe/Vienna
BEGIN:DAYLIGHT
TZOFFSETFROM:+0100
TZOFFSETTO:+0200
TZNAME:CEST
DTSTART:20230326T010000
END:DAYLIGHT
BEGIN:STANDARD
TZOFFSETFROM:+0200
TZOFFSETTO:+0100
TZNAME:CET
DTSTART:20231029T010000
END:STANDARD
END:VTIMEZONE
BEGIN:VEVENT
DTSTART;TZID=Europe/Vienna:20230826T100000
DTEND;TZID=Europe/Vienna:20230826T140000
DTSTAMP:20260422T185315
CREATED:20230815T071101Z
LAST-MODIFIED:20230815T071223Z
UID:3050-1693044000-1693058400@www.mm-gleinstaetten.at
SUMMARY:MUKI DAY
DESCRIPTION:\nEuch sind die Ferien schon zu langweilig? Dann haben wir etwas für euch:\n\n\nEin buntes und abwechslungsreiches Programm verspricht viel Spaß und Action!\nKommt zum MUKI DAY am 26.08.2023\, lernt Blasmusikinstrumente kennen und probiert aus\, wie sie klingen.\n \n\n\nEinfach bei unseren Mädels telefonisch anmelden und schon seid ihr dabei!\nJulia Lambauer – 0660 31 70 452\nMagdalena Neger-Loibner – 0664 88 79 58 73\nElisabeth Opriessnig – 0664 52 14 640\n \n\n\nWir freuen uns schon auf euch!\n\n\n
URL:https://www.mm-gleinstaetten.at/event/muki-day/
LOCATION:Haus der Musik\, 8443 Gleinstätten\, Austria
ATTACH;FMTTYPE=image/jpeg:https://www.mm-gleinstaetten.at/wp-content/uploads/2022/07/sommer22.jpg
END:VEVENT
END:VCALENDAR