BEGIN:VCALENDAR
VERSION:2.0
PRODID:-//Marktmusik Gleinstätten - ECPv5.1.0//NONSGML v1.0//EN
CALSCALE:GREGORIAN
METHOD:PUBLISH
X-WR-CALNAME:Marktmusik Gleinstätten
X-ORIGINAL-URL:https://www.mm-gleinstaetten.at
X-WR-CALDESC:Events for Marktmusik Gleinstätten
BEGIN:VTIMEZONE
TZID:Europe/Vienna
BEGIN:DAYLIGHT
TZOFFSETFROM:+0100
TZOFFSETTO:+0200
TZNAME:CEST
DTSTART:20240331T010000
END:DAYLIGHT
BEGIN:STANDARD
TZOFFSETFROM:+0200
TZOFFSETTO:+0100
TZNAME:CET
DTSTART:20241027T010000
END:STANDARD
END:VTIMEZONE
BEGIN:VEVENT
DTSTART;TZID=Europe/Vienna:20240922T080000
DTEND;TZID=Europe/Vienna:20240922T113000
DTSTAMP:20260422T172857
CREATED:20240910T052652Z
LAST-MODIFIED:20240910T052652Z
UID:3173-1726992000-1727004600@www.mm-gleinstaetten.at
SUMMARY:Erntedankfest
DESCRIPTION:
URL:https://www.mm-gleinstaetten.at/event/erntedankfest/
LOCATION:Pfarrkirche Gleinstätten
END:VEVENT
END:VCALENDAR