BEGIN:VCALENDAR
VERSION:2.0
PRODID:-//Marktmusik Gleinstätten - ECPv5.1.0//NONSGML v1.0//EN
CALSCALE:GREGORIAN
METHOD:PUBLISH
X-WR-CALNAME:Marktmusik Gleinstätten
X-ORIGINAL-URL:https://www.mm-gleinstaetten.at
X-WR-CALDESC:Events for Marktmusik Gleinstätten
BEGIN:VTIMEZONE
TZID:Europe/Vienna
BEGIN:DAYLIGHT
TZOFFSETFROM:+0100
TZOFFSETTO:+0200
TZNAME:CEST
DTSTART:20230326T010000
END:DAYLIGHT
BEGIN:STANDARD
TZOFFSETFROM:+0200
TZOFFSETTO:+0100
TZNAME:CET
DTSTART:20231029T010000
END:STANDARD
END:VTIMEZONE
BEGIN:VEVENT
DTSTART;TZID=Europe/Vienna:20230924T080000
DTEND;TZID=Europe/Vienna:20230924T170000
DTSTAMP:20260422T185518
CREATED:20230918T182045Z
LAST-MODIFIED:20230918T182144Z
UID:3062-1695542400-1695574800@www.mm-gleinstaetten.at
SUMMARY:Erntedankfest 2023
DESCRIPTION:Am Sonntag\, den 24.September findet wieder das traditionelle Erntedankfest in der Pfarrkirche Gleinstätten statt. Die Marktmusik Gleinstätten darf die Messe wieder musikalisch umrahmen. \n
URL:https://www.mm-gleinstaetten.at/event/erntedankfest-2023/
ATTACH;FMTTYPE=image/jpeg:https://www.mm-gleinstaetten.at/wp-content/uploads/2022/04/next-event2.jpg
END:VEVENT
END:VCALENDAR