BEGIN:VCALENDAR
VERSION:2.0
PRODID:-//Marktmusik Gleinstätten - ECPv5.1.0//NONSGML v1.0//EN
CALSCALE:GREGORIAN
METHOD:PUBLISH
X-WR-CALNAME:Marktmusik Gleinstätten
X-ORIGINAL-URL:https://www.mm-gleinstaetten.at
X-WR-CALDESC:Events for Marktmusik Gleinstätten
BEGIN:VTIMEZONE
TZID:Europe/Vienna
BEGIN:DAYLIGHT
TZOFFSETFROM:+0100
TZOFFSETTO:+0200
TZNAME:CEST
DTSTART:20220327T010000
END:DAYLIGHT
BEGIN:STANDARD
TZOFFSETFROM:+0200
TZOFFSETTO:+0100
TZNAME:CET
DTSTART:20221030T010000
END:STANDARD
END:VTIMEZONE
BEGIN:VEVENT
DTSTART;VALUE=DATE:20220925
DTEND;VALUE=DATE:20220926
DTSTAMP:20260422T185432
CREATED:20220907T174215Z
LAST-MODIFIED:20220907T174239Z
UID:2850-1664064000-1664150399@www.mm-gleinstaetten.at
SUMMARY:Erntedankfest
DESCRIPTION:Am 25. September darf die Marktmusik Gleinstätten wieder das Erntedankfest am Kirchplatz Gleinstätten musikalisch untermalen. \n
URL:https://www.mm-gleinstaetten.at/event/erntedank-2022/
ATTACH;FMTTYPE=image/jpeg:https://www.mm-gleinstaetten.at/wp-content/uploads/2022/04/next-event2.jpg
END:VEVENT
END:VCALENDAR