BEGIN:VCALENDAR
VERSION:2.0
PRODID:-//Marktmusik Gleinstätten - ECPv5.1.0//NONSGML v1.0//EN
CALSCALE:GREGORIAN
METHOD:PUBLISH
X-WR-CALNAME:Marktmusik Gleinstätten
X-ORIGINAL-URL:https://www.mm-gleinstaetten.at
X-WR-CALDESC:Events for Marktmusik Gleinstätten
BEGIN:VTIMEZONE
TZID:Europe/Vienna
BEGIN:DAYLIGHT
TZOFFSETFROM:+0100
TZOFFSETTO:+0200
TZNAME:CEST
DTSTART:20230326T010000
END:DAYLIGHT
BEGIN:STANDARD
TZOFFSETFROM:+0200
TZOFFSETTO:+0100
TZNAME:CET
DTSTART:20231029T010000
END:STANDARD
END:VTIMEZONE
BEGIN:VEVENT
DTSTART;VALUE=DATE:20231231
DTEND;VALUE=DATE:20240101
DTSTAMP:20260422T172726
CREATED:20231004T111326Z
LAST-MODIFIED:20231004T111326Z
UID:3070-1703980800-1704067199@www.mm-gleinstaetten.at
SUMMARY:Coming soon...
DESCRIPTION:
URL:https://www.mm-gleinstaetten.at/event/coming-soon/
ATTACH;FMTTYPE=image/jpeg:https://www.mm-gleinstaetten.at/wp-content/uploads/2022/04/next-event2.jpg
END:VEVENT
END:VCALENDAR