BEGIN:VCALENDAR
VERSION:2.0
PRODID:-//Marktmusik Gleinstätten - ECPv5.1.0//NONSGML v1.0//EN
CALSCALE:GREGORIAN
METHOD:PUBLISH
X-WR-CALNAME:Marktmusik Gleinstätten
X-ORIGINAL-URL:https://www.mm-gleinstaetten.at
X-WR-CALDESC:Events for Marktmusik Gleinstätten
BEGIN:VTIMEZONE
TZID:Europe/Vienna
BEGIN:DAYLIGHT
TZOFFSETFROM:+0100
TZOFFSETTO:+0200
TZNAME:CEST
DTSTART:20220327T010000
END:DAYLIGHT
BEGIN:STANDARD
TZOFFSETFROM:+0200
TZOFFSETTO:+0100
TZNAME:CET
DTSTART:20221030T010000
END:STANDARD
END:VTIMEZONE
BEGIN:VEVENT
DTSTART;TZID=Europe/Vienna:20220730T060000
DTEND;TZID=Europe/Vienna:20220731T190000
DTSTAMP:20260422T202121
CREATED:20220701T142936Z
LAST-MODIFIED:20220712T112329Z
UID:2726-1659160800-1659294000@www.mm-gleinstaetten.at
SUMMARY:Ausflug nach Osttirol
DESCRIPTION:Am letzten Juli-Wochenende fährt unsere MMG zu unseren MusikkollegInnen nach Heinfels in Osttirol\, um dort am Samstag ein Dämmerschoppen-Konzert im Zuge des Bezirksmusikfestes zu spielen. Am Sonntag werden wir beim Frühschoppen mitfeiern und auf dem Weg zurück in die schöne Steiermark den Pyramidenkogel in Kärnten besuchen. \n
URL:https://www.mm-gleinstaetten.at/event/ausflug-nach-osttirol/
ATTACH;FMTTYPE=image/jpeg:https://www.mm-gleinstaetten.at/wp-content/uploads/2022/04/next-event2.jpg
END:VEVENT
END:VCALENDAR