BEGIN:VCALENDAR
VERSION:2.0
PRODID:-//Marktmusik Gleinstätten - ECPv5.1.0//NONSGML v1.0//EN
CALSCALE:GREGORIAN
METHOD:PUBLISH
X-WR-CALNAME:Marktmusik Gleinstätten
X-ORIGINAL-URL:https://www.mm-gleinstaetten.at
X-WR-CALDESC:Events for Marktmusik Gleinstätten
BEGIN:VTIMEZONE
TZID:Europe/Vienna
BEGIN:DAYLIGHT
TZOFFSETFROM:+0100
TZOFFSETTO:+0200
TZNAME:CEST
DTSTART:20200329T010000
END:DAYLIGHT
BEGIN:STANDARD
TZOFFSETFROM:+0200
TZOFFSETTO:+0100
TZNAME:CET
DTSTART:20201025T010000
END:STANDARD
END:VTIMEZONE
BEGIN:VEVENT
DTSTART;VALUE=DATE:20200801
DTEND;VALUE=DATE:20200802
DTSTAMP:20260422T201659
CREATED:20200609T170604Z
LAST-MODIFIED:20200609T182857Z
UID:1975-1596240000-1596326399@www.mm-gleinstaetten.at
SUMMARY:After-COVID Musizieren
DESCRIPTION:Liebe Freunde der Marktmusik\,\nwir freuen uns schon wieder für euch zu musizieren und werden euch informieren sobald’s wieder einen Auftritt von uns gibt! \n  \n
URL:https://www.mm-gleinstaetten.at/event/after-covid-musizieren/
LOCATION:Haus der Musik\, 8443 Gleinstätten\, Austria
ATTACH;FMTTYPE=image/png:https://www.mm-gleinstaetten.at/wp-content/uploads/2020/05/narzissenfest-2010-1.png
END:VEVENT
END:VCALENDAR